Workbook

Sheet NARMCO Details
A1: NARMCO Supplier Self Assessment
A3: 1 | B3: AUDIT PURPOSE
B4: The purpose of this audit is to assess the capability of Suppliers. This Audit can be used as a self assessment and/or on-site assessment.
A6: 2 | B6: SCOPE OF APPLICATION
A7: . | B7: It can be applicable to:
B8: a) | C8: Newly developed production components
B9: b) | C9: Proposed new supplier
B10: c) | C10: After a critical engineering-change
B11: d) | C11: After a supplier process or product change, plant move or line change
B12: e) | C12: Change factors which have critical impact on part quality
B13: f) | C13: Follow up as result of a low performance score or critical spill.
B14: g) | C14: To assist with Supplier Development
B15: h) | C15: Critical Suppliers
A17: 3 | B17: DEFINITION OF TERMINOLOGY
A18: 3.1 | C18: Sections
B19: a) | C19: APQP - This section evaluates Production Part suppliers Advanced Quality System
B20: b) | C20: Supplier Management - This section evaluates how Production Part suppliers manage their own suppliers
B21: c) | C21: Process analysis-production - this section evaluates how production part suppliers manage their manufacturing system
B22: d) | C22: Customer Support - All suppliers that this assessment is forwarded to are evaluated to this section
B23: e) | C23: Social Responsibility - All suppliers that this assessment is forwarded to are evaluated to this section
B24: f) | C24: Security - All suppliers that this assessment is forwarded to are evaluated to this section
A25: 3.2 | C25: Supplier Types
B26: a) | C26: Purchased part production suppliers include: raw stampings/blanks, welded assemblies, painted parts, any type of fastener, heat treated parts
B27: b) | C27: Purchased Steel Suppliers - suppliers that provide steel and or aluminum coils
B28: c) | C28: Outside Rework suppliers / Outside Sort- suppliers contracted to alter NARMCO parts (ex. De-burring a part)
B29: e) | C29: Calibration Supplier - Suppliers used to NARMCO owned calibration equipment
B30: f) | C30: Logistics Suppliers - Transportation Suppliers that are in NARMCO's control
A32: 3.3 | C32: Assessment Questions
B33: a) | C33: Legend - On the Cover sheet a legend is shown with Yes, No and Not applicable. Yes questions are scored based on importance, All No Questions will receive a 0, Any item marked N/A will not effect the suppliers overall score.
B34: b) | C34: For a question that is evaluated as Yes, comments with why evaluated as Yes should be applied.
A37: 4 | B37: RESPONSIBILITY AND AUTHORITY
B38: a) | C38: NARMCO Corporate Purchasing is responsible to send out self assessments to potential suppliers, as well as self-assessments for ongoing monitoring requirements.
B39: b) | C39: NARMCO Corporate Purchasing is responsible to contact the Supplier in the event of an on-site audit. On-site audits are required to completed by a Qualified Auditor as per QCI 012 Auditor Competency requirements
B40: c) | C40: NARMCO Corporate Purchasing is responsible to address all audit findings which require improvement.
B41: d) | C41: NARMCO Corporate Purchasing & NARMCO Corporate Quality shall review supplier assessments for completeness, and ensure all non-compliances are agreed upon and reacted to in a timely manner (i.e.. Responses to corrective actions, are required to be responded to within 30 working days from the date of review)
A43: 5 | B43: DETAILED PROCEDURE
A44: 5.1 | C44: Self Assessments
B45: a) | C45: Corporate Purchasing sends out supplier assessments, including an expectation on timing of when the completed assessment should be returned
B46: b) | C46: Corporate Purchasing tracks timing of self assessments that are sent out and received. When suppliers are non-responsive this should be escalated to the Corporate Purchasing Manager
B47: c) | C47: Once the Self-Assessment is received back Corporate Purchasing reviews the assessment for completeness.
...

Sheet Scoring
A1: Supplier Self Assessment Scoring Methodology
A3: If all Sections have a Green Score, then overall score is Green
A4: If one or more sections are Yellow, then Overall Score is Yellow
A5: If one or more sections are Red, then overall Score is Red
A6: Green = Pass (Low Risk)
A7: Yellow = Approval only If Corporate Purchasing and Corporate Quality Approve. This must be documented on the cover page. Corrective Actions may be required (Medium Risk)
A8: Red = Fail, follow-up required. Corrective Actions required. Re-audit required (High Risk)
A9: **Red Score may have a Conditional Approval by Corporate Purchasing and Coprorate Quality, but corrective Actions must be in place.
A11: Purchased Part Production Suppliers
A12: Evaluated on All 6 sections
A13: Each section has the same Scoring Methodology
A14: Green 80%
... A79: Red <59%

Sheet Supplier Instructions
A1: NARMCO Supplier Self Assessment
D4: Supplier Instructions
D6: Upon receipt of the NARMCO Supplier Self Assessment from the Purchasing Department the shall shall:
A7: 1 | D7: Select the Cover sheet Tab
B8: 1.1 | D8: Type in your Supplier name, if you are part of a larger corporation Type that information in as well
A9: **** | B9: 1.2 | D9: Important: Select Supplier Type based on the type or product or service you supply the NARMCO group, based on the slection this will determine the following tabs you are required to complete, it will "Grey Out" the items not required for completion. In the example to the right, you will see that only sections 4, 5, 6 are required. | E9: ***** | H9: ****1.2 Example ****
C10: 1.2.1 | D10: Purchased Part Production Suppliers, these are componetn parts that result in a finshed product that is shipped to the customer. Examples can include, but not limiited to nuts, studs, brackets, clips, adhesive sealant, blanks etc.
C11: 1.2.2 | D11: Purchased Steel Suppliers, this inlcudes raw material received directly from the mill, a slitter, or broker
C12: 1.2.3 | D12: Outside rework or Sorting suppliers, this includes suppliers that are contracted to complete a quality sort of product, or a dimensional rework of parts, example removing a burr
C13: 1.2.4 | D13: Calibration Supplier, any supplier that is completing a calibration
C14: 1.2.5 | D14: Logistics suppliers, suppliers that are contracted by NARMCO for transport of product
B15: 1.3 | D15: Type in your location, this should be the address where the work is being completed or where the workers that complete the work are located. Ie. the address must match address on ISO/IATF/Liability certificate. For multiple locations/distribution centers there must be a self-assessment for each address that sells/completes a service for us
B16: 1.4 | D16: Type in your supplier code, if avaiable, if not yet a NARMCO contracted supplier this may not have been issed yet. If not available type in N/A
B17: 1.5 | D17: Type in Initial Date, this is the date you are fillng out the assessment
B18: 1.6 | D18: Type in the product description you will be providing
B19: 1.7 | D19: Type in your Supplier contact information, this should inlcude your name, email address and phone #
A20: 2 | D20: Proceed to the tabs you are required to complete, these can include APQP, Supplier Management, Process Analysis-Production, Customer Support, Social Responsibility and Security. Again you are only required to complete the sections/tabs on the cover page that are not "Greyed Out" based on your selection
B21: 2.1 | D21: At this time go through each tab you are required to answer for, and answer each question, until completed
C22: 2.1.1 | D22: Column D: Each question may have mutliple items to answer to, please enter, yes, no or NA. Some question may not have the NA option, in which case you will have to answer yes or NO.
C23: 2.1.2 | D23: Column F Please enter any supporting documents that you have to support your answer as well as any comments you have related to the question.
A24: 3 | D24: At this time go back to the Cover page tab and you will see you score. See the scoring tab for information on how this document is scored. You will note that scoring is also based on the type of supplier you choose, initially on the cover page
A25: 4 | D25: Once complete please return to NARMCO Puchasing cpadmin@narmco.com.

Sheet cover sheet
J1: NARMCO QA Review Initial
E2: Self Assessment
E3: On site Audit | J3: Date Reviewed
G5: Yellow Score Approval (Only required for Yellow Score)
G6: Corp QA - Initial and Date | J6: Corp Purchasing - Initial and Date
A10: Supplier Name: | G10: Initial date :
A11: Supplier Type: | C11: Purchased Steel Suppliers | G11: Follow up date:
A12: Supplier Location: | G12: Product description:
A13: Supplier Code: | G13: Supplier Contact information:
A15: Auditor :
J16: Overall Score | K16: =AVERAGE(G20,G23,G26,G29,G32,G35) -> 0
G18: STATUS*
G19: * Green, Yellow, Red
A20: 1 | B20: APQP | G20: =IF(C11="Select Supplier Type",APQP!$E$31,IF(C11="Purchased Part Production Suppliers",APQP!$E$31,"N/A")) -> N/A | H20: =IF(G20="N/A","N/A", IF(G20>=0.8,"G", IF(AND(G20<0.8,G20>0.59),"Y", IF(G20<=0.59,"R",0)))) -> N/A | J20: Each Section (1-6) applies to below requirements:
J21: Summary Scoring
J22: Green | K22: PASS (Low Risk)
A23: 2 | B23: Supplier Management | G23: =IF(C11="Select Supplier Type",'Supplier Management'!E22,IF(C11="Purchased Part Production Suppliers",'Supplier Management'!E22,"N/A")) -> N/A | H23: =IF(G23="N/A","N/A", IF(G23>=0.8,"G", IF(AND(G23<0.8,G23>0.59),"Y", IF(G23<=0.59,"R",0)))) -> N/A
J25: Yellow | K25: Approval if Corp. Purchasing and Corp. Quality Approve. This must be documented on the cover page. Corrective Actions may be required (Medium Risk)
A26: 3 | B26: Process Analysis / Production | G26: =IF(C11="Select Supplier Type",'Process analysis-production'!E79,IF(C11="Purchased Part Production Suppliers",'Process analysis-production'!E79,"N/A")) -> N/A | H26: =IF(G26="N/A","N/A", IF(G26>=0.8,"G", IF(AND(G26<0.8,G26>0.59),"Y", IF(G26<=0.59,"R",0)))) -> N/A
A29: 4 | B29: Customer Support | G29: ='Customer Support'!E19 -> 0 | H29: =IF(AND($C$11="Logistics Suppliers",$G$29>=0.47),"G", IF(AND($C$11="Logistics Suppliers",$G$29>=0.3,$G$29<0.47),"Y", IF(AND($C$11="Logistics Suppliers",$G$29<0.3),"R", IF(AND($C$11="Outside Rework and Sorting Suppliers",$G$29>=0.55),"G", IF(AND($C$11="Outside Rework and Sorting Suppliers",$G$29>=0.32,$G$29<0.55),"Y", IF(AND($C$11="Outside Rework and Sorting Suppliers",$G$29<0.32),"R", IF(AND($C$11="Calibration Suppliers",$G$29>=0.38),"G", IF(AND($C$11="Calibration Suppliers",$G$29>=0.3,$G$29<0.38),"Y", IF(AND($C$11="Calibration Suppliers",$G$29<0.3),"R", IF($G$29="N/A","N/A", IF($G$29>=0.8,"G", IF(AND($G$29<0.8,$G$29>0.59),"Y", IF($G$29<=0.59,"R",0))))))))))))) -> R | J29: Red | K29: FAILED - Corrective action required Re-audit required (High Risk)
A32: 5 | B32: Social Responsibility | G32: ='Social Responsibility'!E61 -> 0 | H32: =IF(G32<0.15,"R", IF('Social Responsibility'!$D$26="No","R", IF(AND($C$11="Logistics Suppliers",G32>=0.29),"G", IF(AND($C$11="Logistics Suppliers",G32>=0.15,G32<0.29),"Y", IF(AND($C$11="Logistics Suppliers",G32<0.15),"R", IF(AND($C$11="Outside Rework and Sorting Suppliers",G32>=0.29),"G", IF(AND($C$11="Outside Rework and Sorting Suppliers",G32>=0.15,G32<0.29),"Y", IF(AND($C$11="Outside Rework and Sorting Suppliers",G32<0.15),"R", IF(AND($C$11="Calibration Suppliers",G32>=0.29),"G", IF(AND($C$11="Calibration Suppliers",G32>=0.15,G32<0.29),"Y", IF(AND($C$11="Calibration Suppliers",G32<0.15),"R", IF(G32="N/A","N/A", IF(G32>=0.8,"G", IF(AND(G32<0.8,G32>0.59),"Y", IF(G32<=0.59,"R",0))))))))))))))) -> R
J33: YES = REQUIREMENT IN PLACE
J34: NO = REQUIREMENT NOT IN PLACE
A35: 6 | B35: Security | G35: =Security!E21 -> 0 | H35: =IF(AND($C$11="Outside Rework and Sorting Suppliers",$G$35>=0.31),"G", IF(AND($C$11="Outside Rework and Sorting Suppliers",$G$35>=0.19,$G$35<0.31),"Y", IF(AND($C$11="Outside Rework and Sorting Suppliers",$G$35<0.19),"R", IF(AND($C$11="Calibration Suppliers",$G$35>=0.31),"G", IF(AND($C$11="Calibration Suppliers",$G$35>=0.19,$G$35<0.31),"Y", IF(AND($C$11="Calibration Suppliers",$G$35<0.19),"R", IF($G$35="N/A","N/A", IF($G$35>=0.8,"G", IF(AND($G$35<0.8,$G$35>0.59),"Y", IF($G$35<=0.59,"R",0)))))))))) -> R | J35: N/A = NOT APPLICABLE
A37: STRONG POINTS | G37: WEAK POINTS
A50: Comments
A55: Action plan sent :
A57: Date Next Audit :

Sheet APQP
A1: ITEM 1 : APQP
A2: No. | C2: Evidence | D2: Yes/No/ NA | E2: Score | F2: Enter Comments / List document that has been submitted/ and or reviewed
A3: 1.1 | B3: Has sufficient staff been assigned to the project development. Are there any resource constraints that could put the product at risk? | C3: Organizational chart | E3: =IF(D3="","",IF(D3="No",0,0.25))
C4: Manpower list | E4: =IF(D4="","",IF(D4="No",0,0.25))
C5: Critical path identified | E5: =IF(D5="","",IF(D5="No",0,0.25))
C6: Risk Assessment | E6: =IF(D6="","",IF(D6="No",0,0.25))
A7: 1.2 | B7: Is there a documented process for Engineering changes prior to start of production. Is it being followed? | C7: Change management Procedure | E7: =IF(D7="","",IF(D7="No",0,0.25))
C8: Change request form document | E8: =IF(D8="","",IF(D8="No",0,0.75))
A9: 1.3 | B9: Is there a defined notification process should the project timing be at risk? | C9: Project at RISK procedure | E9: =IF(D9="","",IF(D9="No",0,0.25))
C10: Specific Evidence that notification has been carried out. (example e-mail) | E10: =IF(D10="","",IF(D10="No",0,0.75))
A11: 1.4 | B11: Has the project feasibility been evaluated by a cross functional team? Must show evidence of team approval | C11: Feasibility Analysis Document | E11: =IF(D11="","",IF(D11="No",0,0.5))
C12: Feasibility Analysis Document requires team approval | E12: =IF(D12="","",IF(D12="No",0,0.5))
A13: 1.5 | B13: Has a project time line been developed, are milestone events on target? | C13: Program timeline available | E13: =IF(D13="","",IF(D13="No",0,0.2))
C14: All Milestones on target | E14: =IF(D14="","",IF(D14="No",0,0.2))
C15: Capacity plan have been updated to reflect full volume | E15: =IF(D15="","",IF(D15="No",0,0.2))
C16: Timing on tooling and or equipment has been defined | E16: =IF(D16="","",IF(D16="No",0,0.2))
C17: Integration and run at rate has been accounted for on new equipment | E17: =IF(D17="","",IF(D17="No",0,0.2))
A18: 1.6 | B18: Have the responsibilities and the risks for the project been defined as it moved to full production? | C18: Procedure with sign off when moving from tool/equipment shop production facility | E18: =IF(D18="","",IF(D18="No",0,0.25))
C19: Containment procedure for first production runs. | E19: =IF(D19="","",IF(D19="No",0,0.25))
C20: Feedback process | E20: =IF(D20="","",IF(D20="No",0,0.25))
C21: PDR Runs performed at Supplier for projects not deemed low risk | E21: =IF(D21="","",IF(D21="No",0,0.25))
A22: 1.7 | B22: Are the procurement activities of the project implemented and monitored? | C22: Purchase agreements | E22: =IF(D22="","",IF(D22="No",0,0.5))
C23: Contract terms, conditions and timing in line with program timeline | E23: =IF(D23="","",IF(D23="No",0,0.5))
A24: 1.8 | B24: Does the supplier have a warranty process? | C24: Warranty Process | E24: =IF(D24="","",IF(D24="No",0,0.25))
C25: Monitoring and Tracking system | E25: =IF(D25="","",IF(D25="No",0,0.75))
A26: 1.9 | B26: Is there evidence that the supplier has received all statutory and regulatory requirements for the products and services which it provides? | C26: As defined by the customer - NARMCO supplied customer specific requirements received | E26: =IF(D26="","",IF(D26="No",0,1))
A27: 1.1 | B27: What is the supplier Product approval process(PPAP)? | C27: Use of AIAG or Customer Specific Format only | E27: =IF(D27="","",IF(D27="No",0,1))
A28: 1.11 | B28: Does the supplier have a documented product safety process? | C28: Product safety procedure | E28: =IF(D28="","",IF(D28="No",0,0.25))
C29: If product is safety, all characteristics meet regulatory requirements in the ship country (example - Canada - CMVSS, USA - FMVSS) | E29: =IF(D29="","",IF(D29="No",0,0.75))
A30: 1.12 | B30: Organization shall define its product realization processes. Each process and subprocess must be defined. Processes shall be monitored for effectiveness | C30: Process Map, Turtles, Measurables | E30: =IF(D30="","",IF(D30="No",0,1))
A31: % TOTAL | D31: =COUNT(A3:A30) -> 12 | E31: =SUM(E3:E30)/D31 -> 0

Sheet Supplier Management
A1: 2 Supplier Management
A2: No. | C2: Evidence | D2: Yes/No//NA | E2: Score | F2: Enter Comments / List document that has been submitted/ and or reviewed
A3: 2.1 | B3: Is the a defined process for approving new suppliers? Are only approved suppliers used for production? | C3: Criteria for approval of new suppliers | E3: =IF(D3="","",IF(D3="No", 0,0.33))
C4: Approved Supplier list | E4: =IF(D4="","",IF(D4="No", 0,0.33))
C5: Supplier assessments | E5: =IF(D5="","",IF(D5="No", 0,0.33))
A6: 2.2 | B6: Have sub-supplier PPAP been received and approved? | C6: Approved PPAP from supplier (approved PSW) | E6: =IF(D6="","",IF(D6="No", 0,0.5))
C7: Evidence Customer Specific Requirements Included | E7: =IF(D7="","",IF(D7="No", 0,0.5))
A8: 2.3 | B8: Are releases supplied for sub-tier product and service suppliers? | C8: Electronic data exchange | E8: =IF(D8="","",IF(D8="No", 0,0.5))
C9: Paper copy and/or email | E9: =IF(D9="","",IF(D9="No", 0,0.5))
A10: 2.4 | B10: Is there a supplier rating system with evidence of improvement plan for poor performing suppliers? | C10: Must include delivered product conformity to requirements, delivery schedule performance (including premium freight), customer complaints (including field returns) | E10: =IF(D10="","",IF(D10="No", 0,0.33))
C11: Critical suppliers have been identified | E11: =IF(D11="","",IF(D11="No", 0,0.33))
C12: 2nd Party audits of supplier sites considered when suppliers performing below expectations. | E12: =IF(D12="","",IF(D12="No", 0,0.33))
A13: 2.5 | B13: Is there a screening process for new and current business partners? (CTPAT 3.1) | C13: Verifying company is legitimate. (Vendor forms, verifying address, business references) | E13: =IF(D13="","",IF(D13="No", 0,1))
A14: 2.6 | B14: Are you taking into account whether as business partner is a CTPAT Member or a member in and approved Authorized Economic Operator (AEO) program with a Mutual Recognition Arrangement (MRA)? (CTPAT 3.4) | C14: Business partners' CTPAT Certification, AEO Certificate | E14: =IF(D14="","",IF(D14="No", 0,1))
A15: 2.7 | B15: Have you developed a risk assessment guide? (CTPAT 2.1) | C15: Management review of how you are managing risk. | E15: =IF(D15="","",IF(D15="No", 0,1))
A16: 2.8 | B16: Do risk assessments change based on changes in business partners, changes in corporate structure/ownership such as mergers and acquisitions? (CTPAT 2.3) | C16: Are risks assessments being reviewed annually. | E16: =IF(D16="","",IF(D16="No", 0,1))
A17: 2.9 | B17: Does your company have set CSR(Corporate Sustainability Responsibility)/Sustainability Requirements towards YOUR suppliers? These requirements could be documented in either Code of Conduct procedure or Terms and Conditions | C17: Working conditions and human rights | E17: =IF(D17="","",IF(D17="No", 0,0.25))
C18: Health and safety | E18: =IF(D18="","",IF(D18="No", 0,0.25))
C19: Business ethics | E19: =IF(D19="","",IF(D19="No", 0,0.25))
C20: Environment | E20: =IF(D20="","",IF(D20="No", 0,0.25))
A21: 2.1 | B21: Does your company review your supply chain for forced Labour? | C21: Evidence of suppliers forced labour policy, especially related to Chinese-origin components USA - https://www.cbp.gov/trade/forced-labor/UFLPA?language_content_entity=en CANADA- Bill S-211 An Act to enact the Fighting Against Forced Labour and Child Labour in Supply Chains Act https://laws.justice.gc.ca/eng/acts/F-10.6/ | E21: =(IF(D21="","",IF(D21="No",0,1)))
A22: % TOTAL | D22: =COUNT(A3:A21) -> 10 | E22: =SUM(E3:E21)/D22 -> 0

Sheet Process analysis-production
A1: ITEM 3 : Process Analysis /Production
A2: No. | C2: Evidence | D2: Yes/No/ NA | E2: Score | F2: Enter Comments / List document that has been submitted/ and or reviewed
A3: 3.1 | B3: Has the project been transferred from development to serial production? | C3: Approved PPAP | E3: =IF(D3="","",IF(D3="No",0,0.5))
C4: Early Containment completed | E4: =IF(D4="","",IF(D4="No",0,0.5))
A5: 3.2 | B5: Are the process controls clearly defined through all the documentation? | C5: Production Control Plans | E5: =IF(D5="","",IF(D5="No",0,0.167))
C6: Receiving Inspection/ testing | E6: =IF(D6="","",IF(D6="No",0,0.167))
C7: Setup verification / set-up instructions | E7: =IF(D7="","",IF(D7="No",0,0.167))
C8: Operator Instructions/handling instructions | E8: =IF(D8="","",IF(D8="No",0,0.167))
C9: Checking / Inspection instructions | E9: =IF(D9="","",IF(D9="No",0,0.167))
C10: Special / Critical Characteristics identified | E10: =IF(D10="","",IF(D10="No",0,0.167))
A11: 3.3 | B11: Are processes meeting the customer requirements for part quality and quantity? | C11: Evidence of machine/process capability | E11: =IF(D11="","",IF(D11="No",0,0.25))
C12: Failure prevention | E12: =IF(D12="","",IF(D12="No",0,0.25))
C13: Failure detection | E13: =IF(D13="","",IF(D13="No",0,0.25))
C14: Reaction plan when acceptance criteria not met. | E14: =IF(D14="","",IF(D14="No",0,0.25))
A15: 3.4 | B15: Can product capability be proven through statistical methods? | C15: Capability Study | E15: =IF(D15="","",IF(D15="No",0,1))
A16: 3.5 | B16: Are operator instructions available at the point of the operation; are they up to date and easily understood? | C16: Product knowledge | E16: =IF(D16="","",IF(D16="No",0,0.25))
C17: Defect recognition | E17: =IF(D17="","",IF(D17="No",0,0.25))
C18: Product/process training records | E18: =IF(D18="","",IF(D18="No",0,0.25))
C19: Re-training frequency | E19: =IF(D19="","",IF(D19="No",0,0.25))
A20: 3.6 | B20: Is there a process for engineering changes? | C20: Process Change request procedure | E20: =IF(D20="","",IF(D20="No",0,0.25))
C21: Process change request document | E21: =IF(D21="","",IF(D21="No",0,0.25))
C22: Risk Assessment | E22: =IF(D22="","",IF(D22="No",0,0.25))
C23: Engineering Change checklist | E23: =IF(D23="","",IF(D23="No",0,0.25))
A24: 3.7 | B24: Are the required gauge and fixtures available at the point of inspection; are they kept up to date with Engineering changes? | C24: Gauge studies | E24: =IF(D24="","",IF(D24="No",0,0.5))
C25: Calibration frequency adequate - no more than 4 years between each calibration | E25: =IF(D25="","",IF(D25="No",0,0.5))
A26: 3.8 | B26: In the event a product deviates from the agreed standard are there controls in place to protect the customer and return the product to a previously approved state? | C26: Non-conforming product process | E26: =IF(D26="","",IF(D26="No",0,0.2))
C27: Corrective action process | E27: =IF(D27="","",IF(D27="No",0,0.2))
C28: Corrective action re-audit process in place | E28: =IF(D28="","",IF(D28="No",0,0.2))
C29: Is the process effective, no repeat issues | E29: =IF(D29="","",IF(D29="No",0,0.2))
C30: Customer informed in the event defective product has been shipped | E30: =IF(D30="","",IF(D30="No",0,0.2))
A31: 3.9 | B31: Is there a process for Temporary change of process controls? (i.e.. Process deviates from original process, example bypass of a sensor) | C31: By-pass list | E31: =IF(D31="","",IF(D31="No",0,0.5))
C32: Temporary process change notice at the work center with approval | E32: =IF(D32="","",IF(D32="No",0,0.5))
A33: 3.1 | B33: Is there a process for control of reworked product? | C33: Instructions available for rework & re-inspection. | E33: =IF(D33="","",IF(D33="No",0,0.5))
C34: Is customer approval given for any deviations when applicable? | E34: =IF(D34="","",IF(D34="No",0,0.5))
A35: 3.11 | B35: Are process and products audited regularly? | C35: Audit Schedule | E35: =IF(D35="","",IF(D35="No",0,0.143))
C36: Completed LPA's | E36: =IF(D36="","",IF(D36="No",0,0.143))
C37: Control Plan Audits | E37: =IF(D37="","",IF(D37="No",0,0.143))
C38: Completed Internal Quality Management System Audits | E38: =IF(D38="","",IF(D38="No",0,0.143))
C39: Completed 2nd Party External audits | E39: =IF(D39="","",IF(D39="No",0,0.143))
C40: Completed 3rd Party External audits | E40: =IF(D40="","",IF(D40="No",0,0.143))
...

Sheet Customer Support
A1: ITEM 4 : Customer Support
A2: No. | C2: Evidence | D2: Yes/No/ NA | E2: Score | F2: Enter Comments / List document that has been submitted/ and or reviewed
A3: 4.1 | B3: Are customer requirements for Cost/Quality/Delivery being met? | C3: Delivery rating in good standing (record Score received in Column F) | E3: =IF(D3="","",IF(D3="No",0,H8))
C4: Inventory turns tracking | E4: =IF(D4="","",IF(D4="No",0,H8))
C5: Packaging requirements are known and communicated at all levels | E5: =IF(D5="","",IF(D5="No",0,H8))
A6: 4.2 | B6: Are contingency plans in place for critical processes/equipment? | C6: Is a contingency plan available? | E6: =IF(D6="","",IF(D6="No",0,H8))
C7: Has it been tested? | E7: =IF(D7="","",IF(D7="No",0,H8))
C8: Does it cover all areas (tooling, equipment, staffing)? | E8: =IF(D8="","",IF(D8="No",0,H8)) | H8: =1/3 -> 0.33333333
A9: 4.3 | B9: Are Customer defect levels tracked and corrective actions in place? | C9: Is there an effective corrective action process? | E9: =IF(D9="","",IF(D9="No",0,0.5))
C10: Are repeat issues tracked? | E10: =IF(D10="","",IF(D10="No",0,0.5))
A11: 4.4 | B11: Are there support services made available to the customer? | C11: Is there a customer contact list? | E11: =IF(D11="","",IF(D11="No",0,0.5))
C12: Is an English language person available? | E12: =IF(D12="","",IF(D12="No",0,0.5))
A13: 4.5 | B13: Has the Supplier read all Supplier Code of Conduct and Terms and conditions that are listed on the www.narmco.com website? | C13: Shipment of product implies agreement to Supplier code of conduct, as terms and conditions and NARMCO Supplier Manual | E13: =IF(D13="","",IF(D13="No",0,1))
A14: 4.6 | B14: Does the organization have a Quality Management System If the supplier is not ISO 9001 certified approval must come from the OEM to use the supplier | C14: IATF 16949 Certified (If Yes is answered Certification Body, Certificate number and expiration must be entered in column F, otherwise answer must be changed to NO) | E14: =IF(D14="","",IF(D14="NO",0,0.2))
C15: ISO 9001 Certified (If Yes is answered Certification Body, Certificate number and expiration must be entered in column F, otherwise answer must be changed to NO) When No is selected, this section Automatically Changes to red on the Cover page | E15: =IF(D15="","",IF(D15="NO",0,0.2))
C16: ISO 17025 Certified (Calibration suppliers only) (If Yes is answered Certification Body, Certificate number and expiration must be entered in column F, otherwise answer must be changed to NO) | E16: =IF(D16="","",IF(D16="NO",0,0.2))
C17: Not certified to IATF 16949 but a QMS compliant to IATF 16949:2016 | E17: =IF(D17="","",IF(D17="NO",0,0.2))
C18: Not certified to ISO 9001 but a QMS compliant to ISO 9001:2015 | E18: =IF(D18="","",IF(D18="NO",0,0.2))
A19: % TOTAL | D19: =COUNT(A3:A18) -> 6 | E19: =IF(AND('cover sheet'!$C$11="Calibration Suppliers",'Customer Support'!$D$16="Yes"),SUM(E3:E18)/D19, IF(AND('cover sheet'!$C$11="Outside Rework and Sorting Suppliers",'Customer Support'!$D$15="Yes"),SUM(E3:E18)/D19, IF('cover sheet'!$C$11="Logistics Suppliers",SUM(E3:E18)/D19, IF('Customer Support'!$D$14="Yes",SUM(E3:E18)/D19, IF('Customer Support'!$D$15="Yes",SUM(E3:E18)/D19, 0))))) -> 0

Sheet Social Responsibility
A1: ITEM 5: Social Responsibility
A2: No. | C2: Evidence | D2: Yes/No/ NA | E2: Score | F2: Enter Comments / List document that has been submitted/ and or reviewed
A3: 5.1 | B3: Does your company have a management person responsible for Social, Compliance and Environmental Sustainability?* | C3: Yes, List names and contact information in Column F | E3: =IF(D3="","",IF(D3="No",0,1))
A4: 5.2 | B4: Does your company Currently Respond to any Sustainability Assessments? | C4: Ecovadis | E4: =IF(D4="","",IF(D4="No",0,0.25))
C5: M2030 | E5: =IF(D5="","",IF(D5="No",0,0.25))
C6: SAQ | E6: =IF(D6="","",IF(D6="No",0,0.25))
C7: CDP | E7: =IF(D7="","",IF(D7="No",0,0.25))
C8: Plans to complete | E8: =IF(D8="","",IF(D8="No",0,0))
A9: 5.3 | B9: Does your company publish a CSR/Sustainability report | C9: Yes to GRI standards or other global accepted standards Please provide name of standard in Column F | E9: =IF(D9="","",IF(D9="No",0,0.5))
C10: Yes, but not according to globally accepted standards | E10: =IF(D10="","",IF(D10="No",0,0.5))
A11: 5.4 | B11: Does your company have a Code of Conduct/Business Ethics Policy? | C11: Yes, provide document | E11: =IF(D11="","",IF(D11="No",0,1))
A12: 5.5 | B12: Code of conduct/business ethics Policy include: | C12: Anti corruption | E12: =IF(D12="","",IF(D12="No",0,0.1667))
C13: Anti Money Laundering | E13: =IF(D13="","",IF(D13="No",0,0.1667))
C14: Extortion and Bribery | E14: =IF(D14="","",IF(D14="No",0,0.1667))
C15: Privacy | E15: =IF(D15="","",IF(D15="No",0,0.1667))
C16: Disclosure of Information | E16: =IF(D16="","",IF(D16="No",0,0.1667))
C17: Whistle Blower Protection | E17: =IF(D17="","",IF(D17="No",0,0.1667))
A18: 5.6 | B18: Does your company have a formal policy covering working conditions and human rights? | C18: Yes, provide document | E18: =IF(D18="","",IF(D18="No",0,1))
A19: 5.7 | B19: Working conditions and Human Rights Policy covers: | C19: Child labour | E19: =IF(D19="","",IF(D19="No",0,0.1429))
C20: Wages and Benefits | E20: =IF(D20="","",IF(D20="No",0,0.1429))
C21: Working Hours | E21: =IF(D21="","",IF(D21="No",0,0.1429))
C22: Modern Slavery | E22: =IF(D22="","",IF(D22="No",0,0.1429))
C23: Rights of Minorities and Indigenous Peoples | E23: =IF(D23="","",IF(D23="No",0,0.1429))
C24: Freedom of Association and Collective Bargaining | E24: =IF(D24="","",IF(D24="No",0,0.1429))
C25: Harassment and non-discrimination | E25: =IF(D25="","",IF(D25="No",0,0.1429))
A26: 5.8 | B26: Do you have a policy on Forced labour? | C26: Documented policy. For furthers details on this requirement refer to USA - https://www.cbp.gov/trade/forced-labor/UFLPA?language_content_entity=en CANADA- Bill S-211 An Act to enact the Fighting Against Forced Labour and Child Labour in Supply Chains Act https://laws.justice.gc.ca/eng/acts/F-10.6/ When No is selected, this section Automatically Changes to red on the Cover page | E26: =IF(D26="","",IF(D26="No",0,1))
A27: 5.9 | B27: Does your site have a management system in place to manage the working conditions and human rights issues? | C27: Yes, and the system is third party certified | E27: =IF(D27="","",IF(D27="No",0,0.5))
C28: Yes, but the system Is not certified | E28: =IF(D28="","",IF(D28="No",0,0.5))
A29: 5.1 | B29: Does your company have formal written health and safety policies? | C29: Yes, and the system is third party certified to ISO45001 | E29: =IF(D29="","",IF(D29="No",0,0.5))
C30: Yes, but the system Is not certified | E30: =IF(D30="","",IF(D30="No",0,0.5))
A31: 5.11 | B31: Health and Safety Policies Include: | C31: Personal protective equipment | E31: =IF(D31="","",IF(D31="No",0,0.1429))
C32: Machine Safety | E32: =IF(D32="","",IF(D32="No",0,0.1429))
C33: Emergency Preparedness | E33: =IF(D33="","",IF(D33="No",0,0.1429))
C34: Incident and Accident Management | E34: =IF(D34="","",IF(D34="No",0,0.1429))
C35: Workplace Ergonomics | E35: =IF(D35="","",IF(D35="No",0,0.1429))
C36: Handling of Chemicals | E36: =IF(D36="","",IF(D36="No",0,0.1429))
C37: Fire Protection | E37: =IF(D37="","",IF(D37="No",0,0.1429))
A38: 5.12 | B38: Does your company have formal written Environmental policies? | C38: Yes, and the system is third party certified to ISO14001 | E38: =IF(D38="","",IF(D38="No",0,0.5))
C39: Yes, but the system Is not certified | E39: =IF(D39="","",IF(D39="No",0,0.5))
A40: 5.13 | B40: Environmental Policies Include: | C40: GHG emissions, energy efficiency and renewable energy | E40: =IF(D40="","",IF(D40="No",0,0.06667))
...

Sheet Security
A1: ITEM 6 : Security
A2: No. | C2: Evidence | D2: Yes/No/ NA | E2: Score | F2: Enter Comments / List document that has been submitted/ and or reviewed
A3: 6.1 | B3: Have you filled out the Narmco Security Questionnaire? | C3: Yes, and Submitted the Questionnaire | E3: =IF(D3="","",IF(D3="No",0,1))
A4: 6.2 | B4: Do you have a security program in place? | C4: Yes, Security Program in place | E4: =IF(D4="","",IF(D4="No",0,0.3333))
C5: Yes, Security Program in place and documented | E5: =IF(D5="","",IF(D5="No",0,0.3333))
C6: Does not engage with Private or Public Security Forces | E6: =IF(D6="","",IF(D6="No",0,0.3333))
A7: 6.3 | B7: Do you train your employees on security issues? (pertaining to unauthorized personnel in building)? | C7: Yes, List how trained in Column "F" | E7: =IF(D7="","",IF(D7="No",0,1))
A8: 6.4 | B8: Do you have a process to screen prospective employees and periodically check current employees? | C8: Employee Code of Conduct, policies, etc. | E8: =IF(D8="","",IF(D8="No",0,1))
A9: 6.5 | B9: Do you have comprehensive written cybersecurity policies and /or procedures to protect information technology (IT) systems? | C9: Written IT policy, software/hardware protections in place, test IT infrastructure for vulnerabilities, etc. | E9: =IF(D9="","",IF(D9="No",0,1))
A10: 6.6 | B10: Do you have a policy and procedure for inspecting and securing any loaded cargo? | C10: Is there a seven point and/or eight point inspection done on containers? Are locking mechanisms inspected to prevent tampering? | E10: =IF(D10="","",IF(D10="No",0,1))
A11: 6.7 | B11: Do you have a policy and procedure for Seal Security? | C11: Is there a procedure for how seals are issued and controlled? Seal verification process? | E11: =IF(D11="","",IF(D11="No",0,1))
A12: 6.8 | B12: Are you taking into account whether a business partner is a CTPAT Member or a member in and approved Authorized Economic Operator (AEO) program with a Mutual Recognition Arrangement (MRA)? (CTPAT 3.4) | C12: Business partners' CTPAT Certification, AEO Certificate | E12: =IF(D12="","",IF(D12="No",0,1))
A13: 6.9 | B13: Do you ensure outsourced business partners have security measures in place that meet or exceed CTPAT's Minimum Security Criteria (MSC). (CTPAT 3.5) | C13: Business partners answers security questionnaire's | E13: =IF(D13="","",IF(D13="No",0,1))
A14: 6.1 | B14: Do you periodically review your business partners' security assessments? (CTPAT 3.7) | C14: Frequent reviews, requesting documentation on improved security | E14: =IF(D14="","",IF(D14="No",0,1))
A15: 6.11 | B15: Does your company have an information security policy? | C15: Yes, please provide the policy | E15: =IF(D15="","",IF(D15="No",0,1))
A16: 6.12 | B16: Does a certification exist for this system, for example according to ISO® 27001 or an audit according to the requirements of the VDA® ISA? | C16: Yes, the system is certified | E16: =IF(D16="","",IF(D16="No",0,1))
A17: 6.13 | B17: Is the company network protected by a firewall? | C17: Yes, list the firewall in column "F" | E17: =IF(D17="","",IF(D17="No",0,1))
A18: 6.14 | B18: Are corporate networks protected against malware? | C18: Yes, list how protected in column "F" | E18: =IF(D18="","",IF(D18="No",0,1))
... A20: 6.16 | B20: Is your company familiar with the Export Control and Economic Sanctions list? | C20: In accordance with the Export and Import Permits Act, the Trade Controls Bureau is responsible for issuing permits and certificates for various products included on the Export Control List (ECL). | E20: =IF(D20="","",IF(D20="No",0,1))
A21: % TOTAL | D21: =COUNT(A3:A20) -> 16 | E21: =SUM(E3:E20)/D21 -> 0

Sheet Revision History Sheet
A1: Revision # | B1: Date | C1: Revision
A2: 7 | B2: 44047 | C2: Add revision sheet for tracking changes. Cover Sheet - Add overall score, add note to scoring legensd that states Each Section (1-5) applies to below requirements: Add questions 2.4 - 2.7 to supplier management. Add question 5.6 to social responsibility. Add question 6.5 - 6.7 to Security
A3: 8 | B3: 44110 | C3: Add question 2.8 to Supplier Management - to include supplier sustainability, add question 5.7 to Social responsibility for suustainability requirements
A4: 9 | B4: 44475 | C4: Revise entire process and scoring system
A5: 10 | B5: 44687 | C5: Update question 5.14 part two of the question for clarity Please attach if , tantalum, tin, tungsten or gold is "Yes". Add section 6 to Instruction page for resposnsbilities and entry into the self assessment
A6: 11 | B6: 44727 | C6: Add Nissan Requirement in regards to Forced labour under social responsibility insert as question 5.7. Also add Nissan Requirement in regards to forced labour to supplier management, question 2.9
A7: 12 | B7: 44952 | C7: Updated 5. Social Responsibility 5.5, 5.7, 5.12, Add new question 5.2 and reordered question numbers
C8: Updated 6. Security 6.2, 6.16
A9: 13 | B9: 45047 | C9: Add corrections for Allowable N/A verus Yes/NO
A10: 14 | B10: 45411 | C10: Add to Cover sheet page to turn Customer Support to yellow when "ISO 9001" requirement is not met for required suppliers. This flags a review of the Customer support section. Add to Cover Sheet Review and date of reviewed, Add to 5.8 & 2.10 CANADA- Bill S-211 An Act to enact the Fighting Against Forced Labour and Child Labour in Supply Chains Act https://laws.justice.gc.ca/eng/acts/F-10.6/. Add notes to section 4.6 for clarity. Update 5.2, rmeove NO and add plans only
A11: 15 | B11: 45835 | C11: Remove supplier types - MRO, on site contractors from instruction page and Cover sheet
C12: Separate Outside rework and sortings from Calibration suppliers on coverpage
C13: Change social responsibility to flag red if "No" for forced labour policy
C14: Change customer support to flag red if no to ISO 9001
C15: Add Scoring methodology tab. Updated scoring for each type of supplier.
C16: Cover page - update scoring / red, yellow and green
C17: Add Supplier instructions tab for clarity
C18: Add NARMCO Details tab for NARMCO employees awareness, details between on-site / self assessments and responsbilities
C19: Cover page - Added Corp QA and Corp Purchasing signatures if Yellow Supplier
A20: 16 | B20: 45835 | C20: Align revision #'s

Sheet drop down sheet
A1: Answer | B1: Supplier type:
A2: Yes | B2: Select Supplier Type
A3: No | B3: Purchased Part Production Suppliers
A4: N/A | B4: Purchased Steel Suppliers
B5: Outside Rework and Sorting Suppliers
B6: Calibration Suppliers
B7: Logistics Suppliers
